BEGIN:VCALENDAR
VERSION:2.0
PRODID:-//Sequoia Scientific - ECPv6.15.18//NONSGML v1.0//EN
CALSCALE:GREGORIAN
METHOD:PUBLISH
X-WR-CALNAME:Sequoia Scientific
X-ORIGINAL-URL:https://www.sequoiasci.com
X-WR-CALDESC:Events for Sequoia Scientific
REFRESH-INTERVAL;VALUE=DURATION:PT1H
X-Robots-Tag:noindex
X-PUBLISHED-TTL:PT1H
BEGIN:VTIMEZONE
TZID:America/Los_Angeles
BEGIN:DAYLIGHT
TZOFFSETFROM:-0800
TZOFFSETTO:-0700
TZNAME:PDT
DTSTART:20240310T100000
END:DAYLIGHT
BEGIN:STANDARD
TZOFFSETFROM:-0700
TZOFFSETTO:-0800
TZNAME:PST
DTSTART:20241103T090000
END:STANDARD
BEGIN:DAYLIGHT
TZOFFSETFROM:-0800
TZOFFSETTO:-0700
TZNAME:PDT
DTSTART:20250309T100000
END:DAYLIGHT
BEGIN:STANDARD
TZOFFSETFROM:-0700
TZOFFSETTO:-0800
TZNAME:PST
DTSTART:20251102T090000
END:STANDARD
BEGIN:DAYLIGHT
TZOFFSETFROM:-0800
TZOFFSETTO:-0700
TZNAME:PDT
DTSTART:20260308T100000
END:DAYLIGHT
BEGIN:STANDARD
TZOFFSETFROM:-0700
TZOFFSETTO:-0800
TZNAME:PST
DTSTART:20261101T090000
END:STANDARD
END:VTIMEZONE
BEGIN:VEVENT
DTSTART;TZID=America/Los_Angeles:20250826T110000
DTEND;TZID=America/Los_Angeles:20250828T170000
DTSTAMP:20260423T115551
CREATED:20250701T004010Z
LAST-MODIFIED:20250701T005010Z
UID:11491-1756206000-1756400400@www.sequoiasci.com
SUMMARY:Oceans in Action
DESCRIPTION:Sequoia will exhibit at Oceans in Action in Biloxi\, MS. \nSequoia’s President & CEO Dr. Ole Mikkelsen will be in attendance all week.
URL:https://www.sequoiasci.com/event/oceans-in-action-2026/
LOCATION:Mississippi Coast Convention Center\, 2350 Beach Blvd.\, Biloxi\, MS\, 39531
CATEGORIES:Conferences,Exhibitions,Workshops
END:VEVENT
END:VCALENDAR