BEGIN:VCALENDAR
VERSION:2.0
PRODID:-//Sequoia Scientific - ECPv6.15.18//NONSGML v1.0//EN
CALSCALE:GREGORIAN
METHOD:PUBLISH
X-ORIGINAL-URL:https://www.sequoiasci.com
X-WR-CALDESC:Events for Sequoia Scientific
REFRESH-INTERVAL;VALUE=DURATION:PT1H
X-Robots-Tag:noindex
X-PUBLISHED-TTL:PT1H
BEGIN:VTIMEZONE
TZID:America/Los_Angeles
BEGIN:DAYLIGHT
TZOFFSETFROM:-0800
TZOFFSETTO:-0700
TZNAME:PDT
DTSTART:20240310T100000
END:DAYLIGHT
BEGIN:STANDARD
TZOFFSETFROM:-0700
TZOFFSETTO:-0800
TZNAME:PST
DTSTART:20241103T090000
END:STANDARD
BEGIN:DAYLIGHT
TZOFFSETFROM:-0800
TZOFFSETTO:-0700
TZNAME:PDT
DTSTART:20250309T100000
END:DAYLIGHT
BEGIN:STANDARD
TZOFFSETFROM:-0700
TZOFFSETTO:-0800
TZNAME:PST
DTSTART:20251102T090000
END:STANDARD
BEGIN:DAYLIGHT
TZOFFSETFROM:-0800
TZOFFSETTO:-0700
TZNAME:PDT
DTSTART:20260308T100000
END:DAYLIGHT
BEGIN:STANDARD
TZOFFSETFROM:-0700
TZOFFSETTO:-0800
TZNAME:PST
DTSTART:20261101T090000
END:STANDARD
END:VTIMEZONE
BEGIN:VEVENT
DTSTART;VALUE=DATE:20250408
DTEND;VALUE=DATE:20250411
DTSTAMP:20260423T185213
CREATED:20230831T185839Z
LAST-MODIFIED:20250228T180445Z
UID:9924-1744070400-1744329599@www.sequoiasci.com
SUMMARY:Ocean Business 2025
DESCRIPTION:Sequoia’s Sales & Marketing Manager\, Mr. Jim Decker\, and President & CEO\, Dr. Ole Mikkelsen will be on-site in Sequoia’s booth F14 for Ocean Business 2025. Bring your LISST questions and applications along for discussion.
URL:https://www.sequoiasci.com/event/ocean-business-25/
CATEGORIES:Conferences,Exhibitions
END:VEVENT
END:VCALENDAR