BEGIN:VCALENDAR
VERSION:2.0
PRODID:-//Sequoia Scientific - ECPv6.15.18//NONSGML v1.0//EN
CALSCALE:GREGORIAN
METHOD:PUBLISH
X-WR-CALNAME:Sequoia Scientific
X-ORIGINAL-URL:https://www.sequoiasci.com
X-WR-CALDESC:Events for Sequoia Scientific
REFRESH-INTERVAL;VALUE=DURATION:PT1H
X-Robots-Tag:noindex
X-PUBLISHED-TTL:PT1H
BEGIN:VTIMEZONE
TZID:America/New_York
BEGIN:DAYLIGHT
TZOFFSETFROM:-0500
TZOFFSETTO:-0400
TZNAME:EDT
DTSTART:20220313T070000
END:DAYLIGHT
BEGIN:STANDARD
TZOFFSETFROM:-0400
TZOFFSETTO:-0500
TZNAME:EST
DTSTART:20221106T060000
END:STANDARD
BEGIN:DAYLIGHT
TZOFFSETFROM:-0500
TZOFFSETTO:-0400
TZNAME:EDT
DTSTART:20230312T070000
END:DAYLIGHT
BEGIN:STANDARD
TZOFFSETFROM:-0400
TZOFFSETTO:-0500
TZNAME:EST
DTSTART:20231105T060000
END:STANDARD
BEGIN:DAYLIGHT
TZOFFSETFROM:-0500
TZOFFSETTO:-0400
TZNAME:EDT
DTSTART:20240310T070000
END:DAYLIGHT
BEGIN:STANDARD
TZOFFSETFROM:-0400
TZOFFSETTO:-0500
TZNAME:EST
DTSTART:20241103T060000
END:STANDARD
END:VTIMEZONE
BEGIN:VEVENT
DTSTART;TZID=America/New_York:20230430T080000
DTEND;TZID=America/New_York:20230504T170000
DTSTAMP:20260425T102914
CREATED:20220819T234615Z
LAST-MODIFIED:20220819T234615Z
UID:9144-1682841600-1683219600@www.sequoiasci.com
SUMMARY:SPIE Defense + Commercial Sensing
DESCRIPTION:Sequoia’s Dr. Wayne Slade and Dr. Ole Mikkelsen will attend the Ocean Sensing and Monitoring XIV conference and walk the exhibits at the SPIE meeting.
URL:https://www.sequoiasci.com/event/spie-defense-commercial-sensing/
LOCATION:Gaylord Palms Resort & Convention Center\, Orlando\, 6000 WEST OSCEOLA PARKWAY\, Kissimmee\, FL\, 34746
CATEGORIES:Conferences,Exhibitions
END:VEVENT
END:VCALENDAR