BEGIN:VCALENDAR
VERSION:2.0
PRODID:-//Sequoia Scientific - ECPv6.15.18//NONSGML v1.0//EN
CALSCALE:GREGORIAN
METHOD:PUBLISH
X-WR-CALNAME:Sequoia Scientific
X-ORIGINAL-URL:https://www.sequoiasci.com
X-WR-CALDESC:Events for Sequoia Scientific
REFRESH-INTERVAL;VALUE=DURATION:PT1H
X-Robots-Tag:noindex
X-PUBLISHED-TTL:PT1H
BEGIN:VTIMEZONE
TZID:America/Los_Angeles
BEGIN:DAYLIGHT
TZOFFSETFROM:-0800
TZOFFSETTO:-0700
TZNAME:PDT
DTSTART:20250309T100000
END:DAYLIGHT
BEGIN:STANDARD
TZOFFSETFROM:-0700
TZOFFSETTO:-0800
TZNAME:PST
DTSTART:20251102T090000
END:STANDARD
BEGIN:DAYLIGHT
TZOFFSETFROM:-0800
TZOFFSETTO:-0700
TZNAME:PDT
DTSTART:20260308T100000
END:DAYLIGHT
BEGIN:STANDARD
TZOFFSETFROM:-0700
TZOFFSETTO:-0800
TZNAME:PST
DTSTART:20261101T090000
END:STANDARD
BEGIN:DAYLIGHT
TZOFFSETFROM:-0800
TZOFFSETTO:-0700
TZNAME:PDT
DTSTART:20270314T100000
END:DAYLIGHT
BEGIN:STANDARD
TZOFFSETFROM:-0700
TZOFFSETTO:-0800
TZNAME:PST
DTSTART:20271107T090000
END:STANDARD
END:VTIMEZONE
BEGIN:VEVENT
DTSTART;TZID=America/Los_Angeles:20260423T080000
DTEND;TZID=America/Los_Angeles:20260423T173000
DTSTAMP:20260423T021714
CREATED:20260213T171439Z
LAST-MODIFIED:20260213T171439Z
UID:12125-1776931200-1776965400@www.sequoiasci.com
SUMMARY:Tides Conference 2026
DESCRIPTION:Tides Conference 2026: Ignighting Innovation in the Blue Economy of the Pacific Northwest\nTIDES Conference 2026 convenes Pacific Northwest leaders across academia\, industry\, non-profits\, and government to accelerate innovation in the Blue Economy. At the University of Washington in Seattle\, the one-day program features keynotes\, themed panels on Ocean Decarbonization\, Sensors & Platforms\, and Oceanography in the PNW\, plus a poster session and networking. Students receive free admission. Meet peers via panels and posters.
URL:https://www.sequoiasci.com/event/tides-conference-2026/
LOCATION:University of Washington\, South Campus Center\, 1601 NE Columbia Rd\, Seattle\, WA\, 98195\, United States
END:VEVENT
END:VCALENDAR